BEGIN:VCALENDAR
VERSION:2.0
METHOD:PUBLISH
PRODID:-//Accessible Web Design//My Calendar//http://www.joedolson.com//v2.5.13//EN
BEGIN:VEVENT
UID:1767-1589
LOCATION:Zoom開催     
SUMMARY:【申し込みは締め切りました】緊急避妊薬の市販化に関する研修会
DTSTAMP:20260412T140000
ORGANIZER;CN=yakuzaishi51:MAILTO:digicon@dc3.jp
DTSTART:20260412T140000
DTEND:20260412T161500
URL;VALUE=URI:http://y-yaku.or.jp/mc-events/
DESCRIPTION:詳細はこちら受講手順はこちら申し込みＵＲＬはこちら申込締切日　令和８年４月３日(金)
CATEGORIES:県薬等
END:VEVENT
BEGIN:VEVENT
UID:1773-1594
LOCATION:Web配信     
SUMMARY:GLP-1セミナーｉｎ米沢
DTSTAMP:20260416T190000
ORGANIZER;CN=yakuzaishi51:MAILTO:digicon@dc3.jp
DTSTART:20260416T190000
DTEND:20260416T203000
URL;VALUE=URI:http://y-yaku.or.jp/mc-events/
DESCRIPTION:詳細はこちら申込ＵＲＬはこちら&nbsp;申込締切日　令和８年４月１３日(月)催：ノボノルディスクファーマ株式会社
CATEGORIES:他団体
END:VEVENT
BEGIN:VEVENT
UID:1770-1592
LOCATION:Zoomウェビナー開催     
SUMMARY:第30回老年薬学アップデート
DTSTAMP:20260417T190000
ORGANIZER;CN=yakuzaishi51:MAILTO:digicon@dc3.jp
DTSTART:20260417T190000
DTEND:20260417T201000
URL;VALUE=URI:http://y-yaku.or.jp/mc-events/
DESCRIPTION:&nbsp;老年薬学アップデートホームページはこちら詳細お申込みはこちら参加登録期限　2026年4月13日（月）18:00 〆切り
CATEGORIES:他団体
END:VEVENT
BEGIN:VEVENT
UID:1768-1590
LOCATION:WEB開催     
SUMMARY:令和8年度第1回山形市薬剤師会生涯教育研修会
DTSTAMP:20260422T184500
ORGANIZER;CN=yakuzaishi51:MAILTO:digicon@dc3.jp
DTSTART:20260422T184500
DTEND:20260422T203000
URL;VALUE=URI:http://y-yaku.or.jp/mc-events/
DESCRIPTION:詳細はこちら申込URLはこちら申込期限　２０２６年４月１５日(水)
CATEGORIES:県薬等
END:VEVENT
BEGIN:VEVENT
UID:1774-1595
LOCATION:酒田市民健康センター　３階　大研修室またはＷＥＢ     
SUMMARY:酒田地区薬剤師会生涯教育研修会
DTSTAMP:20260423T190000
ORGANIZER;CN=yakuzaishi51:MAILTO:digicon@dc3.jp
DTSTART:20260423T190000
DTEND:20260423T203000
URL;VALUE=URI:http://y-yaku.or.jp/mc-events/
DESCRIPTION:詳細はこちら研修会の対象者：酒田地区会員〇事前に申込みが必要です。◎「集合研修」「ウエブ利用研修」受講１単位申請しております。&nbsp;＊ＷＥＢ受講申込み　　締切：4月16日(木) 18:00・薬剤師会会員は無料・非会員は参加費1,000円&nbsp;＊会場での受講申込み・薬剤師会会員は無料・非会員は参加費1,000円
CATEGORIES:県薬等
END:VEVENT
BEGIN:VEVENT
UID:1772-1593
LOCATION:Zoomウェビナー開催     
SUMMARY:北村山地区薬剤師会生涯教育研修会「令和８年度調剤報酬改定アップデートセミナー」
DTSTAMP:20260423T193000
ORGANIZER;CN=yakuzaishi51:MAILTO:digicon@dc3.jp
DTSTART:20260423T193000
DTEND:20260423T210000
URL;VALUE=URI:http://y-yaku.or.jp/mc-events/
DESCRIPTION:詳細はこちら参加費：山形県薬剤師会会員 無料、非会員 1,000円※日本薬剤師研修センター認定１単位申請中令和8年度調剤報酬改定に伴う、現場での影響の大きいポイントを整理していただきます。加えて、近年の個別指導や立入検査においても確認されるサイバーセキュリティ対策についも具体的に解説いただきます。さらに、【参加者特典】があります。改定対策セット(無償提供)① 義務化セキュリティ対策支援 ② 報酬改定の個別支援・早見表 ③ LINEによる新規処方箋獲得支援 ④ タブレットおよびキャッシュレス端末受付フォームhttps://forms.gle/eFP9voiz61QEkbHY7
CATEGORIES:県薬等
END:VEVENT
END:VCALENDAR